BEGIN:VCALENDAR
VERSION:2.0
PRODID:-//Kulturhus de Mare - ECPv6.15.20//NONSGML v1.0//EN
CALSCALE:GREGORIAN
METHOD:PUBLISH
X-WR-CALNAME:Kulturhus de Mare
X-ORIGINAL-URL:https://www.demare-nd.nl
X-WR-CALDESC:Evenementen voor Kulturhus de Mare
REFRESH-INTERVAL;VALUE=DURATION:PT1H
X-Robots-Tag:noindex
X-PUBLISHED-TTL:PT1H
BEGIN:VTIMEZONE
TZID:Europe/Amsterdam
BEGIN:DAYLIGHT
TZOFFSETFROM:+0100
TZOFFSETTO:+0200
TZNAME:CEST
DTSTART:20250330T010000
END:DAYLIGHT
BEGIN:STANDARD
TZOFFSETFROM:+0200
TZOFFSETTO:+0100
TZNAME:CET
DTSTART:20251026T010000
END:STANDARD
BEGIN:DAYLIGHT
TZOFFSETFROM:+0100
TZOFFSETTO:+0200
TZNAME:CEST
DTSTART:20260329T010000
END:DAYLIGHT
BEGIN:STANDARD
TZOFFSETFROM:+0200
TZOFFSETTO:+0100
TZNAME:CET
DTSTART:20261025T010000
END:STANDARD
BEGIN:DAYLIGHT
TZOFFSETFROM:+0100
TZOFFSETTO:+0200
TZNAME:CEST
DTSTART:20270328T010000
END:DAYLIGHT
BEGIN:STANDARD
TZOFFSETFROM:+0200
TZOFFSETTO:+0100
TZNAME:CET
DTSTART:20271031T010000
END:STANDARD
END:VTIMEZONE
BEGIN:VEVENT
DTSTART;TZID=Europe/Amsterdam:20260328T140000
DTEND;TZID=Europe/Amsterdam:20260328T153000
DTSTAMP:20260420T132016
CREATED:20260311T140436Z
LAST-MODIFIED:20260311T142034Z
UID:10003864-1774706400-1774711800@www.demare-nd.nl
SUMMARY:Pimp je eigen vogelhuis!
DESCRIPTION:Maak de mooiste vogelvilla van Noord Deurningen! 🎨🐦\nDe lente hangt in de lucht en dat betekent werk aan de winkel voor onze gevleugelde vrienden! Op zaterdag 28 maart organiseert DOEBAS een supercreatieve middag in De Mare: we gaan vogelhuisjes pimpen. Welke vogel krijgt straks de kleurrijkste villa van het dorp? \nKom gezellig knutselen van 14.00 tot 15.30 uur. Voor slechts €4\,- maak jij een uniek kunstwerk voor in de tuin. Trek wel je oude kleren aan die vies mogen worden\, want we gaan lekker los met verf en versieringen! 🖌️✨ \nMeld je uiterlijk 25 maart aan. Deel dit bericht ook vooral in je groepsapp\, zodat al je vriendjes en vriendinnetjes erbij zijn! 📲🤝 \nZien we je op 28 maart in De Mare? \nMeld je hieronder aan:\nVoornaam en Achternaam *Leeftijd / geboortedatum: *Groep *Gaat er een ouder mee als begeleider? *JaNee  E-mail *Telefoon ouder *Mag hij/zij alleen naar huis?: *NeeJa  Eventuele allergieën: *NeeJa  Zo ja\, waar moeten we rekening mee houden? / Eventuele opmerkingen::VersturenLeuk dat je er bij bent! De aanmelding is verzonden.×Er is een fout opgetreden bij het verzenden van uw bericht. Probeer het later opnieuw.×
URL:https://www.demare-nd.nl/evenementen/pimp-je-eigen-vogelhuis/
LOCATION:Kulturhus de Mare\, Nieuwewemestraat 3\, Denekamp\, 7591 PC
CATEGORIES:Evenement
ATTACH;FMTTYPE=image/png:https://www.demare-nd.nl/wp-content/uploads/2026/03/De-Mare-Pimp-je-eigen-vogelhuis.png
END:VEVENT
BEGIN:VEVENT
DTSTART;TZID=Europe/Amsterdam:20260506T200000
DTEND;TZID=Europe/Amsterdam:20260506T210000
DTSTAMP:20260420T132016
CREATED:20260323T093124Z
LAST-MODIFIED:20260323T182633Z
UID:10003865-1778097600-1778101200@www.demare-nd.nl
SUMMARY:Veilig online met ‘Zeker Thuis’!
DESCRIPTION:Internetten we wel zo veilig als we denken? 🤔 Op **woensdag 6 mei 2026** komt Jaimy Muller naar Kulturhus de Mare om alles te vertellen over online veiligheid bij jou thuis. Jaimy is onlangs gestart met zijn eigen bedrijf ‘Zeker Thuis’ en deelt zijn expertise deze avond met ons! 💻✨ \nTijdens deze boeiende presentatie leer je handige tips en tricks om hackers en internetfraude buiten de deur te houden. We duiken ook diep in de wereld van de moderne babbeltrucs: hoe herken je bijvoorbeeld bankhelpdeskfraude of iemand die zich voordoet als nepagent? Jaimy legt precies uit hoe je deze slimme misleidingen kunt voorkomen. 🔐 \nEen must voor iedereen die met een gerust hart wil scrollen\, bankieren en mailen. Zet de datum dus alvast met een dikke cirkel in je agenda! 🗓️ \nZien we je dan in de Mare? De toegang is gratis.
URL:https://www.demare-nd.nl/evenementen/veilig-online-met-zeker-thuis/
LOCATION:Kulturhus de Mare\, Nieuwewemestraat 3\, Denekamp\, 7591 PC
CATEGORIES:Evenement
ATTACH;FMTTYPE=image/png:https://www.demare-nd.nl/wp-content/uploads/2026/03/De-Mare-Veilig-Thuis-v2-scaled.png
END:VEVENT
BEGIN:VEVENT
DTSTART;TZID=Europe/Amsterdam:20260509T200000
DTEND;TZID=Europe/Amsterdam:20260510T010000
DTSTAMP:20260420T132016
CREATED:20260310T070717Z
LAST-MODIFIED:20260312T223112Z
UID:10003863-1778356800-1778374800@www.demare-nd.nl
SUMMARY:Hofkapel Greun'n & Boeskool Blech
DESCRIPTION:Op zaterdag 9 mei wordt De Mare het muzikale hart van het dorp. De commissie is achter de schermen al druk bezig om er weer een fantastische avond van te maken. \nEn dit keer: muziek van eigen bodem! 🎶 \nDe mannen van Hofkapel Greun’n en de toppers van Boeskool Blech staan samen op het podium. Reken op een avond vol energie\, knallend koper en vooral heel veel gezelligheid. 🍻🎺 \nOf je nu komt voor de muziek\, de sfeer of gewoon een mooie avond met dorpsgenoten — dit wordt er eentje die je niet wilt missen. \nDus: noteer ‘m alvast in je agenda.\n📅 Zaterdag 9 mei 2026\n📍 De Mare – Noord Deurningen \nBinnenkort zijn de tickets hier te bestellen\, houd de pagina in de gaten. 🎶🍻
URL:https://www.demare-nd.nl/evenementen/hofkapel-greunn-boeskool-blech/
LOCATION:Kulturhus de Mare\, Nieuwewemestraat 3\, Denekamp\, 7591 PC
CATEGORIES:Evenement,Event met tickets
ATTACH;FMTTYPE=image/jpeg:https://www.demare-nd.nl/wp-content/uploads/2026/03/Boeskool-Blech.jpeg
END:VEVENT
BEGIN:VEVENT
DTSTART;TZID=Europe/Amsterdam:20260529T190000
DTEND;TZID=Europe/Amsterdam:20260529T230000
DTSTAMP:20260420T132016
CREATED:20251118T121047Z
LAST-MODIFIED:20251118T121205Z
UID:10003854-1780081200-1780095600@www.demare-nd.nl
SUMMARY:Inschrijfavond ASVD 2026
DESCRIPTION:Inschrijving van de Autorodeo Denekamp 2026. \n\nDatum: Vrijdag 29 mei 2026\nTijd: Zaal open vanaf 19.00u.\nLocatie: De Mare Noord Deurningen\n\nDeelnemers dienen de volgende materialen geprint en gereed mee te nemen naar de inschrijflocatie: \n\n\nInschrijfformulier 2026: Het volledig ingevulde formulier. (Het formulier volgt z.s.m.) \n\n\nRijbewijs: Een kopie van een geldig rijbewijs. Dit document is verplicht ter verificatie.
URL:https://www.demare-nd.nl/evenementen/inschrijfavond-asvd-2026/
LOCATION:Kulturhus de Mare\, Nieuwewemestraat 3\, Denekamp\, 7591 PC
CATEGORIES:Evenement
ATTACH;FMTTYPE=image/png:https://www.demare-nd.nl/wp-content/uploads/2025/11/Inschrijving-ASVD-De-Mare.png
END:VEVENT
END:VCALENDAR